BEGIN:VCALENDAR
VERSION:2.0
PRODID:-//Quatuor Æesthesis - ECPv6.5.0//NONSGML v1.0//EN
CALSCALE:GREGORIAN
METHOD:PUBLISH
X-ORIGINAL-URL:https://www.quatuoraesthesis.com
X-WR-CALDESC:évènements pour Quatuor Æesthesis
REFRESH-INTERVAL;VALUE=DURATION:PT1H
X-Robots-Tag:noindex
X-PUBLISHED-TTL:PT1H
BEGIN:VTIMEZONE
TZID:Europe/Zurich
BEGIN:DAYLIGHT
TZOFFSETFROM:+0100
TZOFFSETTO:+0200
TZNAME:CEST
DTSTART:20230326T010000
END:DAYLIGHT
BEGIN:STANDARD
TZOFFSETFROM:+0200
TZOFFSETTO:+0100
TZNAME:CET
DTSTART:20231029T010000
END:STANDARD
BEGIN:DAYLIGHT
TZOFFSETFROM:+0100
TZOFFSETTO:+0200
TZNAME:CEST
DTSTART:20240331T010000
END:DAYLIGHT
BEGIN:STANDARD
TZOFFSETFROM:+0200
TZOFFSETTO:+0100
TZNAME:CET
DTSTART:20241027T010000
END:STANDARD
END:VTIMEZONE
BEGIN:VEVENT
DTSTART;TZID=Europe/Zurich:20231015T190000
DTEND;TZID=Europe/Zurich:20240830T200000
DTSTAMP:20260423T000909
CREATED:20250830T080223Z
LAST-MODIFIED:20260111T181918Z
UID:29183-1697396400-1725048000@www.quatuoraesthesis.com
SUMMARY:Festival Musicales de Montreuil - By the waters
DESCRIPTION:
URL:https://www.quatuoraesthesis.com/event/festival-musicales-de-montreuil-by-the-waters/
LOCATION:Église Saint Pierre Saint Paul\, 2 Rue de Romainville\, Montreuil\, 93100\, France
CATEGORIES:By the waters
END:VEVENT
BEGIN:VEVENT
DTSTART;TZID=Europe/Zurich:20231028T200000
DTEND;TZID=Europe/Zurich:20240830T213000
DTSTAMP:20260423T000909
CREATED:20231028T160038Z
LAST-MODIFIED:20260111T181704Z
UID:29180-1698523200-1725053400@www.quatuoraesthesis.com
SUMMARY:La maison du chant - By the waters
DESCRIPTION:
URL:https://www.quatuoraesthesis.com/event/la-maison-du-chant-by-the-waters/
LOCATION:La maison du chant\, 49 Rue Chape\, Marseille\, 13004\, France
CATEGORIES:By the waters
END:VEVENT
END:VCALENDAR